BEGIN:VCALENDAR
VERSION:2.0
PRODID:-//Crafty Pots - ECPv6.15.17.1//NONSGML v1.0//EN
CALSCALE:GREGORIAN
METHOD:PUBLISH
X-WR-CALNAME:Crafty Pots
X-ORIGINAL-URL:https://craftypots.studio
X-WR-CALDESC:Events for Crafty Pots
REFRESH-INTERVAL;VALUE=DURATION:PT1H
X-Robots-Tag:noindex
X-PUBLISHED-TTL:PT1H
BEGIN:VTIMEZONE
TZID:America/New_York
BEGIN:DAYLIGHT
TZOFFSETFROM:-0500
TZOFFSETTO:-0400
TZNAME:EDT
DTSTART:20170312T070000
END:DAYLIGHT
BEGIN:STANDARD
TZOFFSETFROM:-0400
TZOFFSETTO:-0500
TZNAME:EST
DTSTART:20171105T060000
END:STANDARD
BEGIN:DAYLIGHT
TZOFFSETFROM:-0500
TZOFFSETTO:-0400
TZNAME:EDT
DTSTART:20180311T070000
END:DAYLIGHT
BEGIN:STANDARD
TZOFFSETFROM:-0400
TZOFFSETTO:-0500
TZNAME:EST
DTSTART:20181104T060000
END:STANDARD
BEGIN:DAYLIGHT
TZOFFSETFROM:-0500
TZOFFSETTO:-0400
TZNAME:EDT
DTSTART:20190310T070000
END:DAYLIGHT
BEGIN:STANDARD
TZOFFSETFROM:-0400
TZOFFSETTO:-0500
TZNAME:EST
DTSTART:20191103T060000
END:STANDARD
END:VTIMEZONE
BEGIN:VEVENT
DTSTART;TZID=America/New_York:20180420T180000
DTEND;TZID=America/New_York:20180420T210000
DTSTAMP:20260419T185941
CREATED:20180528T161605Z
LAST-MODIFIED:20180528T161605Z
UID:1162-1524247200-1524258000@craftypots.studio
SUMMARY:Kids Night Out April 20 - Galaxy Mugs
DESCRIPTION:Three hours of freedom – for you ! Drop the kids off at Crafty Pots at 6-9pm on Friday April 20 for painting\, pizza and a movie
URL:https://craftypots.studio/eventsingle/kids-night-out-april-20-galaxy-mugs/
LOCATION:Crafty Pots\, 126 Main Street N\, Markham\, ON\, L3P 1Y1\, Canada
CATEGORIES:KNO
ATTACH;FMTTYPE=image/jpeg:https://craftypots.studio/wp-content/uploads/2018/04/Galaxy-Mug.jpg
END:VEVENT
END:VCALENDAR