BEGIN:VCALENDAR
VERSION:2.0
PRODID:-//Crafty Pots - ECPv6.15.17.1//NONSGML v1.0//EN
CALSCALE:GREGORIAN
METHOD:PUBLISH
X-ORIGINAL-URL:https://craftypots.studio
X-WR-CALDESC:Events for Crafty Pots
REFRESH-INTERVAL;VALUE=DURATION:PT1H
X-Robots-Tag:noindex
X-PUBLISHED-TTL:PT1H
BEGIN:VTIMEZONE
TZID:America/Toronto
BEGIN:DAYLIGHT
TZOFFSETFROM:-0500
TZOFFSETTO:-0400
TZNAME:EDT
DTSTART:20230312T070000
END:DAYLIGHT
BEGIN:STANDARD
TZOFFSETFROM:-0400
TZOFFSETTO:-0500
TZNAME:EST
DTSTART:20231105T060000
END:STANDARD
BEGIN:DAYLIGHT
TZOFFSETFROM:-0500
TZOFFSETTO:-0400
TZNAME:EDT
DTSTART:20240310T070000
END:DAYLIGHT
BEGIN:STANDARD
TZOFFSETFROM:-0400
TZOFFSETTO:-0500
TZNAME:EST
DTSTART:20241103T060000
END:STANDARD
BEGIN:DAYLIGHT
TZOFFSETFROM:-0500
TZOFFSETTO:-0400
TZNAME:EDT
DTSTART:20250309T070000
END:DAYLIGHT
BEGIN:STANDARD
TZOFFSETFROM:-0400
TZOFFSETTO:-0500
TZNAME:EST
DTSTART:20251102T060000
END:STANDARD
END:VTIMEZONE
BEGIN:VEVENT
DTSTART;TZID=America/Toronto:20241115T110000
DTEND;TZID=America/Toronto:20241115T213000
DTSTAMP:20260419T221041
CREATED:20241107T202705Z
LAST-MODIFIED:20241107T202938Z
UID:21992-1731668400-1731706200@craftypots.studio
SUMMARY:PA Day Friday Nov 15 - free add-on
DESCRIPTION:Come enjoy the PA Day together with ceramics painting\, clay building or glow in the dark painting! Drop ins are always welcome. \nAs a special treat\, each child painting their own item can also choose one cool add-on to paint for free.  \n \nThere are many types of flat add-ons\, up to 8 cm in size. One add-on per regular item painted\, must be painted by the same child.
URL:https://craftypots.studio/eventsingle/pa-day-friday-nov-15-free-add-on/
LOCATION:ON
CATEGORIES:Event
ATTACH;FMTTYPE=image/jpeg:https://craftypots.studio/wp-content/uploads/2018/03/DSC_4114.jpg
END:VEVENT
BEGIN:VEVENT
DTSTART;TZID=America/Toronto:20241124T110000
DTEND;TZID=America/Toronto:20241124T190000
DTSTAMP:20260419T221041
CREATED:20241108T201045Z
LAST-MODIFIED:20241119T234637Z
UID:21997-1732446000-1732474800@craftypots.studio
SUMMARY:Family Workshop - Make your own clay tree
DESCRIPTION:Come join us for a family workshop all day Sunday November 24 and make a one of a kind clay Christmas Tree! \nYou build it by hand branch by branch\, and the kids will love being part of the process\, rolling the clay into branches and giving them texture. Full instruction is provided. \nAfter baking we can paint the tree with one of the special rustic pottery glazes or you can paint it yourself. The tree will be ready for pickup early to mid December. \nThe tree will be about 9″ – 10″ tall and you can put a tealight inside so it’ll fill a room with cozyness and warmth! \nThe price is $70 plus tax for up to four participants making one tree\, painting is included\, additional trees $40 a piece\, additional participants $10 plus tax. The workshop takes around two hours and we can have four groups creating at the same time so we’ll contact you and choose a time slot that works for you. \nReservation and payment in advance is necessary. Payment is not refundable\, but will become store credit valid for 60 days if you have to cancel.
URL:https://craftypots.studio/eventsingle/family-workshop-make-your-own-clay-tree-family/
LOCATION:ON
CATEGORIES:Event
ATTACH;FMTTYPE=image/jpeg:https://craftypots.studio/wp-content/uploads/2024/11/mayco-stoneware-treer.jpg
END:VEVENT
END:VCALENDAR